BEGIN:VCALENDAR
VERSION:2.0
PRODID:-//wp-events-plugin.com//7.2.3.1//EN
TZID:Europe/London
X-WR-TIMEZONE:Europe/London
BEGIN:VEVENT
UID:1672@agi.org.uk
DTSTART;TZID=Europe/London:20260326T150000
DTEND;TZID=Europe/London:20260326T200000
DTSTAMP:20260302T113056Z
URL:https://www.agi.org.uk/events/agi-greater-manchester-networking-event-
 save-the-date/
SUMMARY:AGI Greater Manchester Networking Event - Registration Open
DESCRIPTION:We’re excited to announce that registration is now open for t
 he upcoming AGI Greater Manchester Networking Event.\n\nDate: Thursday 26 
 March 2026\nTheme: “What’s New for 2026”\nLocation details: Alan Tur
 ing Building\, Upper Brook Street\, Manchester\, M13 9SR\nTime: 15:00 -20:
 00\n\nThis in-person event brings together geospatial professionals from a
 cross the region to connect\, share ideas\, and explore what 2026 has in s
 tore for our sector. Whether you’re working in government\, academia\, p
 rivate industry\, or are just passionate about geospatial innovation\, thi
 s is a fantastic opportunity to expand your network and gain fresh insight
  into the year ahead.\n\nWe’re looking ahead to the trends\, technologie
 s\, and transformative forces shaping the geospatial landscape. If you’r
 e interested in giving a short talk\, we’d love to hear from you.\n\nPro
 posed talks should align with one or more of the following AGI Foresight t
 hemes:\n\n 	Artificial Intelligence in Geospatial\n 	Data in the World of 
 Geospatial\n 	Interoperability and Infrastructure in Geospatial\n 	Collabo
 ration in Geospatial\n 	Earth Systems Evolution\n 	The Great Skills Shift\
 n\nThe event is free to attend\, but registration is required with spaces 
 limited\, so ensure you register early to avoid disappointment.\n\nRegiste
 r your Place
ATTACH;FMTTYPE=image/jpeg:https://www.agi.org.uk/wp-content/uploads/2026/0
 2/gm-event-website-version1.png
CATEGORIES:AGI
END:VEVENT
BEGIN:VTIMEZONE
TZID:Europe/London
X-LIC-LOCATION:Europe/London
BEGIN:STANDARD
DTSTART:20251026T010000
TZOFFSETFROM:+0100
TZOFFSETTO:+0000
TZNAME:GMT
END:STANDARD
END:VTIMEZONE
END:VCALENDAR