BEGIN:VCALENDAR
VERSION:2.0
PRODID:-//wp-events-plugin.com//7.2.3.1//EN
TZID:Europe/London
X-WR-TIMEZONE:Europe/London
BEGIN:VEVENT
UID:207@agi.org.uk
DTSTART;TZID=Europe/London:20210705T090000
DTEND;TZID=Europe/London:20210706T170000
DTSTAMP:20210614T110832Z
URL:https://www.agi.org.uk/events/arcgis-3-enhanced-skills-for-arcgis-10-x
 -for-desktop/
SUMMARY:ArcGIS 3 – Enhanced Skills for ArcGIS 10.x for Desktop
DESCRIPTION:This course is the third of a 3 part foundation in ArcGIS Deskt
 op (version 10.x). The ArcGIS 3 course expands on the subjects covered in 
 the ArcGIS 1  Fundamentals of ArcGIS 10.x for Desktop and ArcGIS 2 –
  Essentials of ArcGIS 10.x for Desktop courses and introduces some more a
 dvanced functions. These include setting geodatabase behaviour rules\, dat
 a adjustment\, desktop and online analysis tools and using Modelbuilder. T
 emporal (time based) data and basic raster/image analysis are also covered
 .\n\nFind out more information and register directly with Esri UK here
ATTACH;FMTTYPE=image/jpeg:https://www.agi.org.uk/wp-content/uploads/2020/0
 7/logo-esri.png
CATEGORIES:Training Courses
END:VEVENT
BEGIN:VTIMEZONE
TZID:Europe/London
X-LIC-LOCATION:Europe/London
BEGIN:DAYLIGHT
DTSTART:20210328T020000
TZOFFSETFROM:+0000
TZOFFSETTO:+0100
TZNAME:BST
END:DAYLIGHT
END:VTIMEZONE
END:VCALENDAR