BEGIN:VCALENDAR
VERSION:2.0
PRODID:-//wp-events-plugin.com//7.2.3.1//EN
TZID:Europe/London
X-WR-TIMEZONE:Europe/London
BEGIN:VEVENT
UID:871@agi.org.uk
DTSTART;TZID=Europe/London;VALUE=DATE:20240221
DTEND;TZID=Europe/London;VALUE=DATE:20240222
DTSTAMP:20240105T115914Z
URL:https://www.agi.org.uk/events/arcgis-modelbuilder-arcgis-pro-classroom
 -2/
SUMMARY:ArcGIS Modelbuilder (ArcGIS Pro) classroom
DESCRIPTION:This practical\, one-day hands-on course provides an introducti
 on to ArcGIS Pro model builder and how you can use it to streamline data p
 rocessing tasks. You will be introduced to GeoProcessing Toolbox and gain 
 a deeper understanding of ArcPro geoprocessing tools. You will learn how t
 o construct a model\, make it loop\, expose parameters to turn it into a M
 odel tool for embedding and integrating Python scripts into the model buil
 der environment. The course comprises hands-on exercises each introduced w
 ith a short presentation.\n\nThis course is intended for regular users of 
 ESRI’s ArcPro software who wish to improve their technical knowledge to 
 automate data processing.\n\nFind more information and register directly w
 ith GeoData\, University of Southampton
ATTACH;FMTTYPE=image/jpeg:https://www.agi.org.uk/wp-content/uploads/2020/1
 2/logo-geodata-institute.png
CATEGORIES:AGI
END:VEVENT
BEGIN:VTIMEZONE
TZID:Europe/London
X-LIC-LOCATION:Europe/London
BEGIN:STANDARD
DTSTART:20231029T010000
TZOFFSETFROM:+0100
TZOFFSETTO:+0000
TZNAME:GMT
END:STANDARD
END:VTIMEZONE
END:VCALENDAR