BEGIN:VCALENDAR
VERSION:2.0
PRODID:-//wp-events-plugin.com//7.2.3.1//EN
TZID:Europe/London
X-WR-TIMEZONE:Europe/London
BEGIN:VEVENT
UID:1670@agi.org.uk
DTSTART;TZID=Europe/London:20260319T110000
DTEND;TZID=Europe/London:20260319T120000
DTSTAMP:20260217T132914Z
URL:https://www.agi.org.uk/events/arcgis-update-spring-2026/
SUMMARY:ArcGIS Update - Spring 2026
DESCRIPTION:Join the first ArcGIS Update webinar of 2026\, where 
 we look forward to sharing the latest advancements to ArcGIS that we
 ’re excited about.  This 1-hour virtual event is your chance to 
 catch up with the new capabilities\, features and announcements that have 
 come to the ArcGIS System.\n\nA sneak peek of what you’ll learn 
 includes:\n- The latest technical insight from Esri UK’s Chief Tec
 hnology Officer\n- What’s new in ArcGIS Online\n- Unpacking the la
 test ArcGIS Survey123 changes\n...plus\, have your say for w
 hat we show in our April webinar all about Arcade.\n\nFind more info
 rmation and register directly with Esri UK
ATTACH;FMTTYPE=image/jpeg:https://www.agi.org.uk/wp-content/uploads/2024/1
 2/Esri_UK_Emblem_tag_1C.jpg
CATEGORIES:Webinars
END:VEVENT
BEGIN:VTIMEZONE
TZID:Europe/London
X-LIC-LOCATION:Europe/London
BEGIN:STANDARD
DTSTART:20251026T010000
TZOFFSETFROM:+0100
TZOFFSETTO:+0000
TZNAME:GMT
END:STANDARD
END:VTIMEZONE
END:VCALENDAR