BEGIN:VCALENDAR
VERSION:2.0
PRODID:-//wp-events-plugin.com//7.2.3.1//EN
TZID:Europe/London
X-WR-TIMEZONE:Europe/London
BEGIN:VEVENT
UID:1468@agi.org.uk
DTSTART;TZID=Europe/London:20260126T130000
DTEND;TZID=Europe/London:20260126T173000
DTSTAMP:20250912T101235Z
URL:https://www.agi.org.uk/events/avineon-tensings-fme-uk-tour-in-leeds/
SUMMARY:Avineon Tensing's FME UK Tour in Leeds
DESCRIPTION:Announcing Avineon Tensing's 2026 FME UK Tour!\n\nFollowing the
  success of our previous FME Tour events\, Avineon Tensing is excited to a
 nnounce our return to the road in early 2026! We’re bringing the latest 
 FME updates directly to you\, with stops in Leeds\, London and Bristol. Du
 ring each event we will demo some of the newest features and insights from
  Safe Software\, sprinkled with our own unique expertise. We’ll share ou
 r data industry observations and practical knowledge on the latest in data
  integration\, aiming to spark inspiration and also providing the perfect 
 opportunity to network with fellow FME users. Join us to explore the lates
 t that the FME Platform has to offer. A reminder - these events are comple
 tely free to attend - just a smile at the door will get you in!\n\nView re
 cordings from previous events here\n\nFor more information and to register
  directly with Avineon Tensing\n\n&nbsp\;\n\n&nbsp\;\n\n&nbsp\;
ATTACH;FMTTYPE=image/jpeg:https://www.agi.org.uk/wp-content/uploads/2025/0
 9/avineon_tensing_fmetrainer.png
CATEGORIES:Other
END:VEVENT
BEGIN:VTIMEZONE
TZID:Europe/London
X-LIC-LOCATION:Europe/London
BEGIN:STANDARD
DTSTART:20251026T010000
TZOFFSETFROM:+0100
TZOFFSETTO:+0000
TZNAME:GMT
END:STANDARD
END:VTIMEZONE
END:VCALENDAR