BEGIN:VCALENDAR
VERSION:2.0
PRODID:-//wp-events-plugin.com//7.2.3.1//EN
TZID:Europe/London
X-WR-TIMEZONE:Europe/London
BEGIN:VEVENT
UID:1381@agi.org.uk
DTSTART;TZID=Europe/London;VALUE=DATE:20250903
DTEND;TZID=Europe/London;VALUE=DATE:20250905
DTSTAMP:20250630T120210Z
URL:https://www.agi.org.uk/events/british-cartographic-society-conference-
 2025/
SUMMARY:British Cartographic Society Conference 2025
DESCRIPTION:Date: Wednesday 3rd to Thursday 4th September 2025\n​Venue: B
 ritish Geological Survey\, Keyworth\, Nottinghamshire\nProgramme Day 1:\nG
 eoViz Hands-On Workshops (am and pm)\nBGS-run short workshops and visits (
 am or pm)\nMap Curators' Group Autumn Workshop (all day)\nDrinks reception
  and networking event (pm)\nInformal dinner for attendees (evening)\nProgr
 amme Day 2: \nMain Conference (all day)\nBCS Annual Awards Ceremony (lunc
 htime)​​​\n​This year's conference is based on the theme of Managi
 ng Our Landscapes and includes a broad range of speakers from DEFRA\, BGS\
 , Registers of Scotland\, ESRI and leading academics.\nFull programme deta
 ils with pricing options are now available and can be downloaded here. Boo
 king on eventbrite is now open. Places on some of the workshops and visit
 s are limited so make sure you book early.\nMost suitable hotel accommodat
 ion is in Nottingham so BCS could run a mini bus between Nottingham and Ke
 yworth if there is enough demand\, although there is a very good bus servi
 ce from Nottingham station to BGS and there is adequate parking on site at
  Keyworth.\nFind more information and register directly with British Carto
 graphic Society
ATTACH;FMTTYPE=image/jpeg:https://www.agi.org.uk/wp-content/uploads/2025/0
 6/BCS-Logo-Dark-Blue-No-Strap.avif
CATEGORIES:Conferences
END:VEVENT
BEGIN:VTIMEZONE
TZID:Europe/London
X-LIC-LOCATION:Europe/London
BEGIN:DAYLIGHT
DTSTART:20250330T020000
TZOFFSETFROM:+0000
TZOFFSETTO:+0100
TZNAME:BST
END:DAYLIGHT
END:VTIMEZONE
END:VCALENDAR