BEGIN:VCALENDAR
VERSION:2.0
PRODID:-//wp-events-plugin.com//7.2.3.1//EN
TZID:Europe/London
X-WR-TIMEZONE:Europe/London
BEGIN:VEVENT
UID:472@agi.org.uk
DTSTART;TZID=Europe/London:20220714T093000
DTEND;TZID=Europe/London:20220714T163000
DTSTAMP:20220712T125545Z
URL:https://www.agi.org.uk/events/cadcorp-sis-desktop-administration-3/
SUMMARY:Cadcorp SIS Desktop Administration
DESCRIPTION:This course will enable a Cadcorp SIS user to administrate the 
 product\, its associated files\, and manage the GIS data for their organis
 ation. The content builds upon Day 2 of ‘Introduction to Cadcorp SIS Des
 ktop’ course. System Administrators will learn how to export data into u
 seful GIS file formats and learn about the best performing formats for Cad
 corp SIS.\n\nAgenda\n▪ Table joins\, and more on building expressions\n
 ▪ Managing data\n▪ Named Object Libraries (NOLs)\n▪ Managing Cadcorp
  SIS\n\nFind more information and register directly with Cadcorp
ATTACH;FMTTYPE=image/jpeg:https://www.agi.org.uk/wp-content/uploads/2020/0
 9/cadcorp-logo.jpg
CATEGORIES:Training Courses
END:VEVENT
BEGIN:VTIMEZONE
TZID:Europe/London
X-LIC-LOCATION:Europe/London
BEGIN:DAYLIGHT
DTSTART:20220327T020000
TZOFFSETFROM:+0000
TZOFFSETTO:+0100
TZNAME:BST
END:DAYLIGHT
END:VTIMEZONE
END:VCALENDAR