BEGIN:VCALENDAR
VERSION:2.0
PRODID:-//wp-events-plugin.com//7.2.3.1//EN
TZID:Europe/London
X-WR-TIMEZONE:Europe/London
BEGIN:VEVENT
UID:471@agi.org.uk
DTSTART;TZID=Europe/London:20220713T093000
DTEND;TZID=Europe/London:20220713T163000
DTSTAMP:20220712T125431Z
URL:https://www.agi.org.uk/events/cadcorp-sis-webmap-admin-5/
SUMMARY:Cadcorp SIS WebMap Admin
DESCRIPTION:This course details the functions of SIS WebMap and introduces 
 students to Cadcorp GeognoSIS. The course gives the background required fo
 r administering and maintaining the webpages\, including SWD data set-up a
 nd implementing Local Knowledge™ searches.\n\nAgenda\n▪ Introduction t
 o WebMap and GeognoSIS\n▪ Creating SWDs for WebMap\n▪ The GeognoSIS Ma
 nager\n▪ The WebMap Admin Page\n▪ Admin Page – Layers Administration
 \n▪ Admin Page – Bookmarks\, Styles and Icons\n▪ Map Page - Toolbar\
 n▪ Map Page - Menu\n▪ Printing\n▪ Website Styling\n▪ Report IT\n
 ▪ Local Knowledge™\n\nFind more information and register directly with
  Cadcorp
ATTACH;FMTTYPE=image/jpeg:https://www.agi.org.uk/wp-content/uploads/2020/0
 9/cadcorp-logo.jpg
CATEGORIES:Training Courses
END:VEVENT
BEGIN:VTIMEZONE
TZID:Europe/London
X-LIC-LOCATION:Europe/London
BEGIN:DAYLIGHT
DTSTART:20220327T020000
TZOFFSETFROM:+0000
TZOFFSETTO:+0100
TZNAME:BST
END:DAYLIGHT
END:VTIMEZONE
END:VCALENDAR