BEGIN:VCALENDAR
VERSION:2.0
PRODID:-//wp-events-plugin.com//7.2.3.1//EN
TZID:Europe/London
X-WR-TIMEZONE:Europe/London
BEGIN:VEVENT
UID:1457@agi.org.uk
DTSTART;TZID=Europe/London:20260506T123000
DTEND;TZID=Europe/London:20260507T170000
DTSTAMP:20250912T094547Z
URL:https://www.agi.org.uk/events/fme-any-ai-training-2/
SUMMARY:FME + Any AI Training
DESCRIPTION:Transform Unstructured Data with the Power of AI - Avineon Tens
 ing’s FME + Any AI Training course introduces the practical application 
 of Artificial Intelligence within FME workspaces\, helping you unlock new 
 possibilities in data integration. Designed for those looking to move beyo
 nd manual clean-up and fragile scripts\, this course demonstrates how to i
 ncorporate AI into your ETL workflows to transform chaotic\, unstructured 
 data into clarity. You’ll explore how FME integrates with generative AI\
 , particularly Large Language Models (LLMs) from providers such as OpenAI\
 , Anthropic\, and Gemini\, to extract and classify content into clean\, st
 ructured formats. From image processing to dynamic schema handling\, this 
 course equips you with the tools to build robust\, automated solutions tai
 lored to your data challenges.\n\nWho Should Attend? This course is suitab
 le for users at an introductory through intermediate level. While prior ex
 perience with FME Form is helpful\, it is not required\, making this an id
 eal starting point for anyone interested in combining FME with AI.\n\nFind
  more information and register directly with Avineon Tensing
ATTACH;FMTTYPE=image/jpeg:https://www.agi.org.uk/wp-content/uploads/2025/0
 9/avineon_tensing_fmetrainer.png
CATEGORIES:Training Courses
END:VEVENT
BEGIN:VTIMEZONE
TZID:Europe/London
X-LIC-LOCATION:Europe/London
BEGIN:DAYLIGHT
DTSTART:20260329T020000
TZOFFSETFROM:+0000
TZOFFSETTO:+0100
TZNAME:BST
END:DAYLIGHT
END:VTIMEZONE
END:VCALENDAR