BEGIN:VCALENDAR
VERSION:2.0
PRODID:-//wp-events-plugin.com//7.2.3.1//EN
TZID:Europe/London
X-WR-TIMEZONE:Europe/London
BEGIN:VEVENT
UID:839@agi.org.uk
DTSTART;TZID=Europe/London:20240516T091500
DTEND;TZID=Europe/London:20240517T163000
DTSTAMP:20240201T164719Z
URL:https://www.agi.org.uk/events/fme-flow-authoring-training-4/
SUMMARY:FME Flow Authoring Training
DESCRIPTION:This course is Tensing's focus on 'enterprise' data integration
  and will help you get started\, or formalise your understanding of FME Fl
 ow (previously FME Server). When your needs extend beyond the desktop\, FM
 E Flow is your application of choice to enable enterprise automation. We w
 ill introduce you to scheduling\, webhooks\, automations\, event-driven no
 tifications and much more!\n\nOn our FME Flow Authoring course we take you
 r skills into the world of Enterprise data integration\, linking up your e
 xisting experience with FME Form\, to its enterprise companion. We introdu
 ce you to the complete user interface and we’ll of course discuss deploy
 ment options too\, to ensure you start off on the right foot. Processing p
 ower matters\, so managing your engine capacity\, standard and consumption
 -based credit is a key part of the course. We’ll make sure you can publi
 sh your Workspaces\, host them\, run them and register them with the right
  service. So whether you’re interested in self-service data automation\,
  task scheduling or real-time data processing… this is the course for yo
 u.\n\nWith so much data out there for you to process\, we’ve also built 
 our content around unique custom European and UK-based examples\, that we 
 use in our courses to give you a local context. We use this data so you ca
 n see how to read and write it effectively and make new integrations\, and
  of course\, all wrapped up with our best practice techniques and tips and
  tricks to help you be efficient quickly.\n\nOur Certified FME Trainers in
  the UK are David Eagle and Simon Green and they've both got 15+ years of 
 experience with the FME Platform\, data integration\, GIS analysis and of 
 course\, they've been delivering software training for most of their caree
 rs\, so you're definitely in a 'Safe' pair of hands.\n\nFind more and regi
 ster directly with Tensing
ATTACH;FMTTYPE=image/jpeg:https://www.agi.org.uk/wp-content/uploads/2023/0
 4/tensing-nov23.png
CATEGORIES:Training Courses
END:VEVENT
BEGIN:VTIMEZONE
TZID:Europe/London
X-LIC-LOCATION:Europe/London
BEGIN:DAYLIGHT
DTSTART:20240331T020000
TZOFFSETFROM:+0000
TZOFFSETTO:+0100
TZNAME:BST
END:DAYLIGHT
END:VTIMEZONE
END:VCALENDAR