BEGIN:VCALENDAR
VERSION:2.0
PRODID:-//wp-events-plugin.com//7.2.3.1//EN
TZID:Europe/London
X-WR-TIMEZONE:Europe/London
BEGIN:VEVENT
UID:2@agi.org.uk
DTSTART;TZID=Europe/London:20210512T090000
DTEND;TZID=Europe/London:20210513T170000
DTSTAMP:20210330T140052Z
URL:https://www.agi.org.uk/events/geoplace-bringing-location-to-life-2021/
SUMMARY:GeoPlace - Places for People 2021
DESCRIPTION:This year’s GeoPlace annual conference will take place on 12t
 h and 13th May via a dedicated live-streaming website. The GeoPlace confer
 ence is a focal point for hundreds of geographic information experts – a
 ll of whom use or need location data to effect change and overcome key cha
 llenges.\n\nYou can view a copy of the agenda by clicking here.\n\nClick h
 ere for more information and to register for the annual conference and pre
 -conference evening events\, directly with GeoPlace.
ATTACH;FMTTYPE=image/jpeg:https://www.agi.org.uk/wp-content/uploads/2020/0
 9/GeoPlace-Logo-2020.png
CATEGORIES:Conferences
END:VEVENT
BEGIN:VTIMEZONE
TZID:Europe/London
X-LIC-LOCATION:Europe/London
BEGIN:DAYLIGHT
DTSTART:20210328T020000
TZOFFSETFROM:+0000
TZOFFSETTO:+0100
TZNAME:BST
END:DAYLIGHT
END:VTIMEZONE
END:VCALENDAR