BEGIN:VCALENDAR
VERSION:2.0
PRODID:-//wp-events-plugin.com//7.2.3.1//EN
TZID:Europe/London
X-WR-TIMEZONE:Europe/London
BEGIN:VEVENT
UID:1106@agi.org.uk
DTSTART;TZID=Europe/London:20241113T093000
DTEND;TZID=Europe/London:20241114T163000
DTSTAMP:20241017T123759Z
URL:https://www.agi.org.uk/events/introduction-to-cadcorp-sis-desktop-13/
SUMMARY:Introduction to Cadcorp SIS Desktop
DESCRIPTION:Learn the basics for everyday use of Cadcorp SIS. Students are 
 introduced to the basic concepts underpinning GIS\, and shown how to find 
 a location\, and view\, create\, edit and print maps. It will also introdu
 ce you to creating and managing your own files and extend your knowledge a
 bout creating and editing data.\n\nFind more information and register dire
 ctly with Cadcorp.
ATTACH;FMTTYPE=image/jpeg:https://www.agi.org.uk/wp-content/uploads/2024/0
 7/cadcorp-july-2024.png
CATEGORIES:Webinars
END:VEVENT
BEGIN:VTIMEZONE
TZID:Europe/London
X-LIC-LOCATION:Europe/London
BEGIN:STANDARD
DTSTART:20241027T010000
TZOFFSETFROM:+0100
TZOFFSETTO:+0000
TZNAME:GMT
END:STANDARD
END:VTIMEZONE
END:VCALENDAR