BEGIN:VCALENDAR
VERSION:2.0
PRODID:-//wp-events-plugin.com//7.2.3.1//EN
TZID:Europe/London
X-WR-TIMEZONE:Europe/London
BEGIN:VEVENT
UID:846@agi.org.uk
DTSTART;TZID=Europe/London:20240917T090000
DTEND;TZID=Europe/London:20240918T170000
DTSTAMP:20231204T102609Z
URL:https://www.agi.org.uk/events/introduction-to-qgis-desktop-gis-trainin
 g-2/
SUMMARY:Introduction to QGIS Desktop GIS Training
DESCRIPTION:Our training task group has been working hard on optimising our
  current training courses for remote delivery. The technology that we use 
 to deliver these courses has been specifically designed to ensure that the
  learning experience is just as effective as if you are in one of our trai
 ning centres. The same experienced instructors that deliver our classroom 
 courses deliver our virtual ones too. We limit the number of attendees to
  six so that each one receives the right amount of individual support an
 d attention. We are even able to observe how each attendee is progressing 
 with the exercises we set them and steer them in the right direction when 
 they need our help.\n\nFind more information and register directly with Ca
 dline
ATTACH;FMTTYPE=image/jpeg:https://www.agi.org.uk/wp-content/uploads/2023/1
 2/cadline-an-arkance-co.png
CATEGORIES:Training Courses
END:VEVENT
BEGIN:VTIMEZONE
TZID:Europe/London
X-LIC-LOCATION:Europe/London
BEGIN:DAYLIGHT
DTSTART:20240331T020000
TZOFFSETFROM:+0000
TZOFFSETTO:+0100
TZNAME:BST
END:DAYLIGHT
END:VTIMEZONE
END:VCALENDAR