BEGIN:VCALENDAR
VERSION:2.0
PRODID:-//wp-events-plugin.com//7.2.3.1//EN
TZID:Europe/London
X-WR-TIMEZONE:Europe/London
BEGIN:VEVENT
UID:1602@agi.org.uk
DTSTART;TZID=Europe/London;VALUE=DATE:20261210
DTEND;TZID=Europe/London;VALUE=DATE:20261211
DTSTAMP:20251201T151656Z
URL:https://www.agi.org.uk/events/mgiss-gis-training-12/
SUMMARY:MGISS - GIS Training
DESCRIPTION:Data capture\, GNSS hardware and GIS software training courses 
 tailored to fit your business\, delivered by geospatial experts.\n\nFlexib
 le training services delivered by GIS experts\nAt MGISS\, we’re proud of
  our expertise and experience in the industry\, offering a wealth of exper
 tise in GIS solutions\, using ArcGIS Online and ArcGIS Pro.\n\nOur over tw
 o-decade-long journey with Geospatial technology has cemented our status a
 s industry leaders\, and we’re dedicated to sharing this knowledge with 
 comprehensive GIS training programs.\n\n 	Offering GIS Software Training\n
  	GNSS Hardware Training\n 	Tailored GIS Training\n\nFind more information
  and register directly with MGISS
ATTACH;FMTTYPE=image/jpeg:https://www.agi.org.uk/wp-content/uploads/2020/0
 9/MGISS-Logo.png
CATEGORIES:Training Courses
END:VEVENT
BEGIN:VTIMEZONE
TZID:Europe/London
X-LIC-LOCATION:Europe/London
BEGIN:STANDARD
DTSTART:20261025T010000
TZOFFSETFROM:+0100
TZOFFSETTO:+0000
TZNAME:GMT
END:STANDARD
END:VTIMEZONE
END:VCALENDAR