BEGIN:VCALENDAR
VERSION:2.0
PRODID:-//wp-events-plugin.com//7.2.3.1//EN
TZID:Europe/London
X-WR-TIMEZONE:Europe/London
BEGIN:VEVENT
UID:1222@agi.org.uk
DTSTART;TZID=Europe/London;VALUE=DATE:20251014
DTEND;TZID=Europe/London;VALUE=DATE:20251016
DTSTAMP:20241202T141221Z
URL:https://www.agi.org.uk/events/opensource-gis-integration/
SUMMARY:OpenSource GIS Integration
DESCRIPTION:This two-day intensive course introduces you to the core functi
 onality of PostGIS\, QGIS\, GeoServer and OpenLayers\, taking you through 
 all the tools you will need to load\, spatially analyse\, publish and shar
 e geospatial data. This course is designed specifically by Open Source GIS
  software specialists to demonstrate how to setup and successfully utilise
  Open Source GIS\, spatial databases and web mapping services in an integr
 ated environment.\n\nThe course is delivered using instructor-led real wor
 ld examples where you learn by ‘doing’.\n\nThe course covers topics in
 cluding\, installation and configuration of all software\, loading vector 
 data into a spatial database\, connecting to a spatial database and then u
 ndertaking GIS analysis\, manipulating spatial data\, publishing and conne
 cting to WMS and WFS services and utilising OpenLayers to explore web mapp
 ing capabilities.\n\nFind more information and register directly with Arka
 nce\n\n
ATTACH;FMTTYPE=image/jpeg:https://www.agi.org.uk/wp-content/uploads/2024/0
 3/arkance-formally-cadline-july-2024.jpg
CATEGORIES:Training Courses,Webinars
END:VEVENT
BEGIN:VTIMEZONE
TZID:Europe/London
X-LIC-LOCATION:Europe/London
BEGIN:DAYLIGHT
DTSTART:20250330T020000
TZOFFSETFROM:+0000
TZOFFSETTO:+0100
TZNAME:BST
END:DAYLIGHT
END:VTIMEZONE
END:VCALENDAR