BEGIN:VCALENDAR
VERSION:2.0
PRODID:-//wp-events-plugin.com//7.2.3.1//EN
TZID:Europe/London
X-WR-TIMEZONE:Europe/London
BEGIN:VEVENT
UID:267@agi.org.uk
DTSTART;TZID=Europe/London:20211207T093000
DTEND;TZID=Europe/London:20211207T170000
DTSTAMP:20211118T103251Z
URL:https://www.agi.org.uk/events/qgis-advanced-1-day-online-2/
SUMMARY:QGIS Advanced (1 day\, Online)
DESCRIPTION:Course content may vary in accordance with prior discussion wit
 h delegates. Typical topics include:\nTopics\n\n 	Processing Toolbox\n 	Ad
 vanced styling\n 	Atlas generation\n 	Raster / Terrain analysis tools\n 	G
 eo-referencing\n 	Plugins demo and review\n\nFind more information and to 
 register directly with Astun Technology
ATTACH;FMTTYPE=image/jpeg:https://www.agi.org.uk/wp-content/uploads/2019/0
 6/Astun.png
CATEGORIES:Training Courses
END:VEVENT
BEGIN:VTIMEZONE
TZID:Europe/London
X-LIC-LOCATION:Europe/London
BEGIN:STANDARD
DTSTART:20211031T010000
TZOFFSETFROM:+0100
TZOFFSETTO:+0000
TZNAME:GMT
END:STANDARD
END:VTIMEZONE
END:VCALENDAR