BEGIN:VCALENDAR
VERSION:2.0
PRODID:-//wp-events-plugin.com//7.2.3.1//EN
TZID:Europe/London
X-WR-TIMEZONE:Europe/London
BEGIN:VEVENT
UID:1682@agi.org.uk
DTSTART;TZID=Europe/London;VALUE=DATE:20260922
DTEND;TZID=Europe/London;VALUE=DATE:20260924
DTSTAMP:20260227T160547Z
URL:https://www.agi.org.uk/events/qgis-advanced-9/
SUMMARY:QGIS: Advanced
DESCRIPTION:This online course builds on the delegates existing knowledge o
 f QGIS. It comprises a series of presentations\, demos and computer practi
 cal sessions using FREE open source GIS software.\nThe example datasets ar
 e taken from a variety of fields.\n\nDelegates are introduced to advanced 
 analysis techniques using both raster and vector data. The course includes
  a basic introduction to the PostgresSQL/PostGIS enterprise database as we
 ll as the Python programming language. The course is designed for existing
  users of QGIS that want to expand their knowledge and carry out higher-le
 vel analysis.\n\nThis course is intended for those who have either complet
 ed our Introduction to QGIS course or have equivalent knowledge and experi
 ence.\n\nFind more information and register directly with GeoData\n\n
ATTACH;FMTTYPE=image/jpeg:https://www.agi.org.uk/wp-content/uploads/2020/1
 2/logo-geodata-institute.png
CATEGORIES:Training Courses
END:VEVENT
BEGIN:VTIMEZONE
TZID:Europe/London
X-LIC-LOCATION:Europe/London
BEGIN:DAYLIGHT
DTSTART:20260329T020000
TZOFFSETFROM:+0000
TZOFFSETTO:+0100
TZNAME:BST
END:DAYLIGHT
END:VTIMEZONE
END:VCALENDAR