BEGIN:VCALENDAR
VERSION:2.0
PRODID:-//wp-events-plugin.com//7.2.3.1//EN
TZID:Europe/London
X-WR-TIMEZONE:Europe/London
BEGIN:VEVENT
UID:1006@agi.org.uk
DTSTART;TZID=Europe/London:20240411T110000
DTEND;TZID=Europe/London:20240411T140000
DTSTAMP:20240404T105652Z
URL:https://www.agi.org.uk/events/reinvent-your-programming-with-idl-for-v
 scode/
SUMMARY:Reinvent your programming with IDL for VSCode
DESCRIPTION:It's time to upgrade your coding environment!\n\nJoin us at our
  upcoming webinar to get started with the IDL for VSCode extension.\n\nT
 he VSCode extension is free and it will modernize the way you work with ID
 L® – the trusted scientific programming language used across disciplin
 es to create meaningful visualizations out of complex numerical data.\n\nB
 y bringing IDL into Visual Studio Code – one of the world’s most popul
 ar text editors – this extension simultaneously removes barriers for tho
 se learning to program and streamlines workflows for the experts among us.
 \n\nWhether you are a long-time IDL user\, or you are just getting started
  – you will benefit from attending this webinar!\n\nFind more informatio
 n and register directly with NV5
ATTACH;FMTTYPE=image/jpeg:https://www.agi.org.uk/wp-content/uploads/2024/0
 4/NV5-logo.jpg
CATEGORIES:Webinars
END:VEVENT
BEGIN:VTIMEZONE
TZID:Europe/London
X-LIC-LOCATION:Europe/London
BEGIN:DAYLIGHT
DTSTART:20240331T020000
TZOFFSETFROM:+0000
TZOFFSETTO:+0100
TZNAME:BST
END:DAYLIGHT
END:VTIMEZONE
END:VCALENDAR