BEGIN:VCALENDAR
VERSION:2.0
PRODID:-//wp-events-plugin.com//7.2.3.1//EN
TZID:Europe/London
X-WR-TIMEZONE:Europe/London
BEGIN:VEVENT
UID:1671@agi.org.uk
DTSTART;TZID=Europe/London:20260310T100000
DTEND;TZID=Europe/London:20260310T160000
DTSTAMP:20260218T133118Z
URL:https://www.agi.org.uk/events/southampton-geospatial-to-launch-the-3rd
 -edition-of-the-workshop/
SUMMARY:Southampton Geospatial to Launch the 3rd edition of the Workshop
DESCRIPTION:Southampton Geospatial to Launch the 3rd edition of the Worksho
 p: Mapping Success – Women in Geospatial – Connecting Knowledge and Re
 al-World Impact\n\nYou are warmly invited to attend the Women in Geospatia
 l event taking place on the 10th of March. In this 3rd edition\, our panel
  discussion will build upon the themes explored through the Responsible AI
  UK-funded project on Governance and Practice led by Southampton Geospatia
 l. The round table discussion will revisit key questions around accountabi
 lity transparency and responsible innovation in geospatial AI and will pro
 vide an open space for discussion across academia public sector and indust
 ry. The event offers an opportunity to strengthen collaboration\, share ex
 periences and continue shaping an inclusive geospatial community.\n\nRegis
 tration is mandatory for catering purposes and to comply with room capacit
 y regulations.\n\nPlease secure your place in advance. Registration closes
  on the 28th of February (midnight).\n\nFind further information and regis
 ter for Women in Geospatial 2026
ATTACH;FMTTYPE=image/jpeg:https://www.agi.org.uk/wp-content/uploads/2026/0
 1/university-of-southampton-scaled.jpg
CATEGORIES:Conferences
END:VEVENT
BEGIN:VTIMEZONE
TZID:Europe/London
X-LIC-LOCATION:Europe/London
BEGIN:STANDARD
DTSTART:20251026T010000
TZOFFSETFROM:+0100
TZOFFSETTO:+0000
TZNAME:GMT
END:STANDARD
END:VTIMEZONE
END:VCALENDAR