BEGIN:VCALENDAR
VERSION:2.0
PRODID:-//wp-events-plugin.com//7.2.3.1//EN
TZID:Europe/London
X-WR-TIMEZONE:Europe/London
BEGIN:VEVENT
UID:261@agi.org.uk
DTSTART;TZID=Europe/London;VALUE=DATE:20211111
DTEND;TZID=Europe/London;VALUE=DATE:20211112
DTSTAMP:20211012T151503Z
URL:https://www.agi.org.uk/events/space-and-geospatial-virtual-pavilion-fo
 r-cop-26/
SUMMARY:Space and Geospatial - Virtual Pavilion for COP 26
DESCRIPTION:The AGI are hosting a two hour virtual event as part of an 11 d
 ay virtual pavilion focused on the value of Geospatial to the COP26 themes
 .\n\nClimate Change in our Urban Environments is a due to take place on th
 e 11 November 2021.\n\nFurther details coming soon!\n\n
ATTACH;FMTTYPE=image/jpeg:https://www.agi.org.uk/wp-content/uploads/2021/0
 9/agi_logo_rgb.jpg
CATEGORIES:AGI
END:VEVENT
BEGIN:VTIMEZONE
TZID:Europe/London
X-LIC-LOCATION:Europe/London
BEGIN:STANDARD
DTSTART:20211031T010000
TZOFFSETFROM:+0100
TZOFFSETTO:+0000
TZNAME:GMT
END:STANDARD
END:VTIMEZONE
END:VCALENDAR