BEGIN:VCALENDAR
VERSION:2.0
PRODID:-//wp-events-plugin.com//7.2.3.1//EN
TZID:Europe/London
X-WR-TIMEZONE:Europe/London
BEGIN:VEVENT
UID:806@agi.org.uk
DTSTART;TZID=Europe/London:20240313T093000
DTEND;TZID=Europe/London:20240313T163000
DTSTAMP:20231010T152528Z
URL:https://www.agi.org.uk/events/sql-for-postgres-postgis-1-day-online-2/
SUMMARY:SQL for Postgres/PostGIS (1 day\, Online)
DESCRIPTION:This course is for GIS users working with Postgres/PostGIS data
 bases\, who need to run SQL and GeoProcessing operations\, using open sour
 ce end user tools. This course can be combined with our PostGIS Essentials
  course to give delegates a solid grounding in managing and querying spati
 al data in a Postgres database.\nTopics\n\n 	Getting Started with SQL\n 	F
 urther SQL\n 	Working with Geometry\n 	Query Optimisation\n 	Automating SQ
 L Tasks\n\nFind more information and register directly with Astun Technolo
 gy.\n\n&nbsp\;
ATTACH;FMTTYPE=image/jpeg:https://www.agi.org.uk/wp-content/uploads/2019/0
 6/Astun.png
CATEGORIES:Training Courses
END:VEVENT
BEGIN:VTIMEZONE
TZID:Europe/London
X-LIC-LOCATION:Europe/London
BEGIN:STANDARD
DTSTART:20231029T010000
TZOFFSETFROM:+0100
TZOFFSETTO:+0000
TZNAME:GMT
END:STANDARD
END:VTIMEZONE
END:VCALENDAR