BEGIN:VCALENDAR
VERSION:2.0
PRODID:-//wp-events-plugin.com//7.2.3.1//EN
TZID:Europe/London
X-WR-TIMEZONE:Europe/London
BEGIN:VEVENT
UID:1040@agi.org.uk
DTSTART;TZID=Europe/London:20241001T140000
DTEND;TZID=Europe/London:20241001T183000
DTSTAMP:20240719T092557Z
URL:https://www.agi.org.uk/events/tensings-fme-uk-tour-2024-leeds/
SUMMARY:Tensing's FME UK Tour 2024 - Leeds
DESCRIPTION:Tensing's FME UK Tour is set to start this October. We'll be ki
 cking things off in Leeds and then onto Bristol\, bringing you news of the
  latest FME integrations and tools. For those located closer to London\, w
 e will be hosting a tour event at Geovation in January 2025.\n\nThe events
  are filled with insights\, inspiration and the perfect chance to network 
 with other FME professionals. Join us to explore the FME Platform together
 . Filled with insightful case studies\, inspiration\, and a dash of AI to 
 discover how to leverage the full power of FME in your projects.\n\nBest o
 f all the event is free.\n\nFind more information and register directly wi
 th Tensing.
ATTACH;FMTTYPE=image/jpeg:https://www.agi.org.uk/wp-content/uploads/2024/0
 7/tensing-nov23.png
CATEGORIES:Training Courses
END:VEVENT
BEGIN:VTIMEZONE
TZID:Europe/London
X-LIC-LOCATION:Europe/London
BEGIN:DAYLIGHT
DTSTART:20240331T020000
TZOFFSETFROM:+0000
TZOFFSETTO:+0100
TZNAME:BST
END:DAYLIGHT
END:VTIMEZONE
END:VCALENDAR