BEGIN:VCALENDAR
VERSION:2.0
PRODID:-//wp-events-plugin.com//7.2.3.1//EN
TZID:Europe/London
X-WR-TIMEZONE:Europe/London
BEGIN:VEVENT
UID:265@agi.org.uk
DTSTART;TZID=Europe/London:20211202T110000
DTEND;TZID=Europe/London:20211202T114500
DTSTAMP:20211118T101825Z
URL:https://www.agi.org.uk/events/webinar-the-next-steps-in-3d-data-for-th
 e-public-sector/
SUMMARY:Webinar: The Next Steps in 3D Data for the Public Sector
DESCRIPTION:​​​Our upcoming webinar will look at 3D data from a gove
 rnment perspective\, use cases for 3D data and customer stories.\n\nBuildi
 ng on our previous webinar where we discussed using data with different 
 dimensions in a 3D context\; this webinar will cover validating and enhanc
 ing 3D data alongside 2D data with use cases specific to the public sector
 . We hope you’ll leave with insight into how 3D data can support your su
 stainable data governance programmes and learn how the data you capture an
 d manage in your supply chain can deliver additional value.\n\nFind more i
 nformation and register directly with 1Spatial here.
ATTACH;FMTTYPE=image/jpeg:https://www.agi.org.uk/wp-content/uploads/2021/0
 2/1spatial.jpg
CATEGORIES:Webinars
END:VEVENT
BEGIN:VTIMEZONE
TZID:Europe/London
X-LIC-LOCATION:Europe/London
BEGIN:STANDARD
DTSTART:20211031T010000
TZOFFSETFROM:+0100
TZOFFSETTO:+0000
TZNAME:GMT
END:STANDARD
END:VTIMEZONE
END:VCALENDAR